BEGIN:VCALENDAR
VERSION:2.0
PRODID:-//ChamberMaster//Event Calendar 2.0//EN
METHOD:PUBLISH
X-PUBLISHED-TTL:P3D
REFRESH-INTERVAL:P3D
CALSCALE:GREGORIAN
BEGIN:VEVENT
DTSTART:20240506T140000Z
DTEND:20240506T220000Z
X-MICROSOFT-CDO-ALLDAYEVENT:FALSE
SUMMARY:2024 Spring Swing Golf Tournament
DESCRIPTION:Annual Spring Swing Golf Tournament\n\nJoin us for our annual classic Golf Tournament - golfers of all experience levels welcomed! \n\nEnjoy a hot breakfast and lunch included with your registration.   Shirt (remember to give us your size if you're golfing!) and swag too.\n\n\n\nGolfers\, Individual and Foursomes register before March 1st and get your early-bird discount!  \n\n\n\nSponsorships available at all levels!  President's Circle Members have special pricing\, so give us a call if you want add a sponsorship to your package!\n\n\n\nTitle Sponsor $10\,000 SOLD\n\n      Business logo recognition on all print & digital marketing\n\n      Tee sponsor\n\n      Two Foursomes of golf eight breakfasts and eight lunches\n\n      Eight VIP packages\n\n      Golfer photo\n\n\n\nClubhouse Sponsor $3\,600 SOLD\n\n      Business logo recognition on all print & digital marketing\n\n      Tee sponsor\n\n      Two Foursomes of golf eight breakfasts and eight lunches\n\n      Eight VIP packages\n\n      Golfer photo\n\n \nGolf Swag - Bluetooth Speaker with Logo  $2\,500 (SOLD!)\n\n      Business Logo recognition on all print & digital marketing\n\n      Business Logo recognition on Blue Tooth Speakers\n\n\nGolf Shirt Sponsor $2\,100 SOLD\n\n      Business Logo recognition on all print & digital marketing\n\n      Business Logo recognition on golf shirts\n\n\n\nEagle Sponsor $2\,100 SOLD\n\n      Business logo recognition on all print & digital marketing\n\n      One Foursome of golf four breakfasts and four lunches\n\n      Four VIP packages\n\n      Golfer photo\n\n\n\nLunch Sponsor $1\,600 (2 only)\n\n      Business logo recognition on print & digital marketing\n\n      Two lunches\n\n\n\nGolf Cart Sponsor $1\,100 (1 only) SOLD!!\n\n      Business Logo recognition on all print & digital marketing\n\n      Business logo on golf carts\n\n\n\nBreakfast Sponsor $1000 (2 only - SOLD)\n\n      Business logo recognition on print & digital marketing along with table\n\n      You will sponsor breakfast for each golfer at registration\n\n\n\nHole in One Vehicle Sponsor $1\,000 SOLD!!\n\n      Business logo recognition on print & digital marketing\n\n      Display a car on the hole in one\n\n\n\nHole Sponsor $600 \n\n      Business logo recognition on print & digital marketing\n\n      Opportunity to meet and greet each golfer and display your marketing materials\n\n      For those who wish to showcase your culinary talents\, you may provide food and or beverages\n\n\n\nBag Check Sponsor $600 (only 1) SOLD!!!\n\n      Business logo recognition on print & digital marketing\n\n      Opportunity to meet and greet each golfer\n\n      Signage in parking lot\n\n\n\nTee Sponsor  $150\n\n      Business logo on the GREEN\n\n\n\nGOLFERS!!!! SOLD OUT\n\nFoursome $700 earlybird $800 after 3/15/24\n\n      Four breakfasts and four lunches\n\n      Four Spring Swing promotional items\n\n      Four VIP packages\n\n\n\nSingle Golfer $175 earlybird $250 after 3/15/24\n\n      Breakfast and lunch\n\n      Spring Swing promotional item\n\n      Golfer photo
X-ALT-DESC;FMTTYPE=text/html:<span style="font-size:14px\;"><span style="font-family:arial\;"><strong>Annual Spring Swing Golf Tournament</strong><br />\nJoin us for our annual classic Golf Tournament - golfers of all experience levels welcomed!&nbsp\;<br />\nEnjoy a hot breakfast and lunch included with your registration.&nbsp\; &nbsp\;Shirt (remember to give us your size if you&#39\;re golfing!) and swag too.<br />\n<br />\n<strong>Golfers\, Individual and Foursomes register before March 1st and get your early-bird discount!&nbsp\;&nbsp\;</strong><br />\n<br />\n<strong>Sponsorships</strong>&nbsp\;available at all levels!&nbsp\;&nbsp\;<strong>President&#39\;s Circle Members have special pricing\, so give us a call if you want add a sponsorship to your package!</strong><br />\n<br />\n<strong>Title Sponsor $10\,000&nbsp\;<span style="color:#FF0000\;">SOLD</span></strong><br />\n&bull\;&nbsp\;&nbsp\;&nbsp\;&nbsp\;&nbsp\;Business logo recognition on all&nbsp\;print &amp\; digital marketing<br />\n&bull\;&nbsp\;&nbsp\;&nbsp\;&nbsp\;&nbsp\;Tee sponsor<br />\n&bull\;&nbsp\;&nbsp\;&nbsp\;&nbsp\;&nbsp\;Two Foursomes of golf&nbsp\;eight breakfasts and eight lunches<br />\n&bull\;&nbsp\;&nbsp\;&nbsp\;&nbsp\;&nbsp\;Eight VIP packages<br />\n&bull\;&nbsp\;&nbsp\;&nbsp\;&nbsp\;&nbsp\;Golfer photo<br />\n<br />\n<strong>Clubhouse Sponsor $3\,600 <span style="color:#FF0000\;">SOLD</span></strong><br />\n&bull\; &nbsp\;&nbsp\;&nbsp\;&nbsp\;Business logo recognition on all print &amp\; digital marketing<br />\n&bull\; &nbsp\;&nbsp\;&nbsp\;&nbsp\;Tee sponsor<br />\n&bull\; &nbsp\;&nbsp\;&nbsp\;&nbsp\;Two Foursomes of golf eight breakfasts and eight lunches<br />\n&bull\; &nbsp\;&nbsp\;&nbsp\;&nbsp\;Eight VIP packages<br />\n&bull\; &nbsp\;&nbsp\;&nbsp\;&nbsp\;Golfer photo</span></span><br />\n&nbsp\;\n<div style="border: 0px\; font-variant-numeric: inherit\; font-variant-east-asian: inherit\; font-variant-alternates: inherit\; font-variant-position: inherit\; font-stretch: inherit\; font-size: medium\; line-height: inherit\; font-family: &quot\;Segoe UI Web (West European)&quot\;\, &quot\;Segoe UI&quot\;\, -apple-system\, BlinkMacSystemFont\, Roboto\, &quot\;Helvetica Neue&quot\;\, sans-serif\; font-optical-sizing: inherit\; font-kerning: inherit\; font-feature-settings: inherit\; font-variation-settings: inherit\; margin: 0px\; padding: 0px\; vertical-align: baseline\; color: rgb(0\, 0\, 0)\;"><span style="font-size:14px\;"><span style="font-family:arial\;"><span style="border: 0px\; font-style: inherit\; font-variant: inherit\; font-weight: inherit\; font-stretch: inherit\; line-height: inherit\; font-optical-sizing: inherit\; font-kerning: inherit\; font-feature-settings: inherit\; font-variation-settings: inherit\; margin: 0px\; padding: 0px\; vertical-align: baseline\;"><b>Golf Swag - Bluetooth Speaker with Logo&nbsp\; $2\,500 <span style="color:#FF0000\;">(SOLD!)</span></b></span></span></span></div>\n\n<div style="border: 0px\; font-variant-numeric: inherit\; font-variant-east-asian: inherit\; font-variant-alternates: inherit\; font-variant-position: inherit\; font-stretch: inherit\; font-size: medium\; line-height: inherit\; font-family: &quot\;Segoe UI Web (West European)&quot\;\, &quot\;Segoe UI&quot\;\, -apple-system\, BlinkMacSystemFont\, Roboto\, &quot\;Helvetica Neue&quot\;\, sans-serif\; font-optical-sizing: inherit\; font-kerning: inherit\; font-feature-settings: inherit\; font-variation-settings: inherit\; margin: 0px\; padding: 0px\; vertical-align: baseline\; color: rgb(0\, 0\, 0)\;"><span style="font-size:14px\;"><span style="font-family:arial\;"><span style="border: 0px\; font-style: inherit\; font-variant: inherit\; font-weight: inherit\; font-stretch: inherit\; line-height: inherit\; font-optical-sizing: inherit\; font-kerning: inherit\; font-feature-settings: inherit\; font-variation-settings: inherit\; margin: 0px\; padding: 0px\; vertical-align: baseline\;">&bull\; &nbsp\;&nbsp\;&nbsp\;&nbsp\;Business Logo recognition on all print &amp\; digital marketing<br />\n&bull\; &nbsp\;&nbsp\;&nbsp\;&nbsp\;Business Logo recognition on Blue Tooth Speakers</span></span></span></div>\n<br />\n<span style="font-size:14px\;"><span style="font-family:arial\;"><strong>Golf Shirt Sponsor $2\,100 <span style="color:#FF0000\;">SOLD</span></strong><br />\n&bull\; &nbsp\;&nbsp\;&nbsp\;&nbsp\;Business Logo recognition on all print &amp\; digital marketing<br />\n&bull\; &nbsp\;&nbsp\;&nbsp\;&nbsp\;Business Logo recognition on golf shirts<br />\n<br />\n<strong>Eagle Sponsor $2\,100 <span style="color:#FF0000\;">SOLD</span></strong><br />\n&bull\; &nbsp\;&nbsp\;&nbsp\;&nbsp\;Business logo recognition on all print &amp\; digital marketing<br />\n&bull\; &nbsp\;&nbsp\;&nbsp\;&nbsp\;One Foursome of golf four breakfasts and four lunches<br />\n&bull\; &nbsp\;&nbsp\;&nbsp\;&nbsp\;Four VIP packages<br />\n&bull\; &nbsp\;&nbsp\;&nbsp\;&nbsp\;Golfer photo<br />\n<br />\n<strong>Lunch Sponsor $1\,600 (2 only)</strong><br />\n&bull\;&nbsp\;&nbsp\;&nbsp\;&nbsp\;&nbsp\;Business logo recognition on print &amp\; digital marketing<br />\n&bull\;&nbsp\;&nbsp\;&nbsp\;&nbsp\;&nbsp\;Two lunches<br />\n<br />\n<strong>Golf Cart Sponsor $1\,100 (1 only) <span style="color:#FF0000\;">SOLD!!</span></strong><br />\n&bull\;&nbsp\;&nbsp\;&nbsp\;&nbsp\;&nbsp\;Business Logo recognition on all print &amp\; digital marketing<br />\n&bull\;&nbsp\;&nbsp\;&nbsp\;&nbsp\;&nbsp\;Business logo on golf carts<br />\n<br />\n<strong>Breakfast Sponsor $1000 <span style="color:#FF0000\;">(2 only - SOLD)</span></strong><br />\n&bull\; &nbsp\;&nbsp\;&nbsp\;&nbsp\;Business logo recognition on print &amp\; digital marketing along with table<br />\n&bull\; &nbsp\;&nbsp\;&nbsp\;&nbsp\;You will sponsor breakfast for each golfer at registration<br />\n<br />\n<strong>Hole in One Vehicle Sponsor $1\,000&nbsp\;<span style="color:#FF0000\;">SOLD!!</span></strong><br />\n&bull\; &nbsp\;&nbsp\;&nbsp\;&nbsp\;Business logo recognition on print &amp\; digital marketing<br />\n&bull\; &nbsp\;&nbsp\;&nbsp\;&nbsp\;Display a car on the hole in one<br />\n<br />\n<strong>Hole Sponsor $600&nbsp\;</strong><br />\n&bull\; &nbsp\;&nbsp\;&nbsp\;&nbsp\;Business logo recognition on print &amp\; digital marketing<br />\n&bull\; &nbsp\;&nbsp\;&nbsp\;&nbsp\;Opportunity to meet and greet each golfer and display your marketing materials<br />\n&bull\; &nbsp\;&nbsp\;&nbsp\;&nbsp\;For those who wish to showcase your culinary talents\, you may provide food and or beverages<br />\n<br />\n<strong>Bag Check Sponsor $600&nbsp\;(only 1)&nbsp\;<span style="color:#FF0000\;">SOLD!!!</span></strong><br />\n&bull\; &nbsp\;&nbsp\;&nbsp\;&nbsp\;Business logo recognition on print &amp\; digital marketing<br />\n&bull\; &nbsp\;&nbsp\;&nbsp\;&nbsp\;Opportunity to meet and greet each golfer<br />\n&bull\; &nbsp\;&nbsp\;&nbsp\;&nbsp\;Signage in parking lot<br />\n<br />\n<strong>Tee Sponsor&nbsp\; $150</strong><br />\n&bull\; &nbsp\;&nbsp\;&nbsp\;&nbsp\;Business logo on the GREEN<br />\n<br />\n<strong>GOLFERS!!!! <span style="color:#FF0000\;">SOLD OUT</span><br />\nFoursome $700 earlybird $800 after 3/15/24</strong><br />\n&bull\; &nbsp\;&nbsp\;&nbsp\;&nbsp\;Four breakfasts and four lunches<br />\n&bull\; &nbsp\;&nbsp\;&nbsp\;&nbsp\;Four Spring Swing promotional items<br />\n&bull\; &nbsp\;&nbsp\;&nbsp\;&nbsp\;Four VIP packages<br />\n<br />\n<strong>Single Golfer $175 earlybird $250 after 3/15/24</strong><br />\n&bull\; &nbsp\;&nbsp\;&nbsp\;&nbsp\;Breakfast and lunch<br />\n&bull\; &nbsp\;&nbsp\;&nbsp\;&nbsp\;Spring Swing promotional item<br />\n&bull\; &nbsp\;&nbsp\;&nbsp\;&nbsp\;Golfer photo</span></span><br />\n&nbsp\;
LOCATION:Sierra Lakes Golf Club 16600 Clubhouse Drive\, Fontana\, CA 92336
UID:e.2077.4589
SEQUENCE:3
DTSTAMP:20260426T002646Z
URL:https://business.ranchochamber.org/events/details/2024-spring-swing-golf-tournament-4589
END:VEVENT

END:VCALENDAR
