BEGIN:VCALENDAR
VERSION:2.0
PRODID:-//ChamberMaster//Event Calendar 2.0//EN
METHOD:PUBLISH
X-PUBLISHED-TTL:P3D
REFRESH-INTERVAL:P3D
CALSCALE:GREGORIAN
BEGIN:VEVENT
DTSTART:20260430T003000Z
DTEND:20260430T023000Z
X-MICROSOFT-CDO-ALLDAYEVENT:FALSE
SUMMARY:5th Annual Multi Chamber Mixer
DESCRIPTION:Multi Chamber Mixer Hosted by Ontario International Airport\n\n\n\nPlease RSVP at events.flyOntario.com/multi-chamber-mixer-2026
X-ALT-DESC;FMTTYPE=text/html:<span style="font-size:16px\;">Multi Chamber Mixer Hosted by Ontario International Airport<br />\n<br />\nPlease RSVP at <a href="http://events.flyOntario.com/multi-chamber-mixer-2026">events.flyOntario.com/multi-chamber-mixer-2026</a></span>
LOCATION:National Guard Hangar - 2180 E. Avion St. Ontario\, CA 91761
UID:e.2077.7055
SEQUENCE:3
DTSTAMP:20260423T022200Z
URL:https://business.ranchochamber.org/events/details/5th-annual-multi-chamber-mixer-7055
END:VEVENT

END:VCALENDAR
