BEGIN:VCALENDAR
VERSION:2.0
PRODID:-//ChamberMaster//Event Calendar 2.0//EN
METHOD:PUBLISH
X-PUBLISHED-TTL:P3D
REFRESH-INTERVAL:P3D
CALSCALE:GREGORIAN
BEGIN:VEVENT
DTSTART:20260521T183000Z
DTEND:20260521T203000Z
X-MICROSOFT-CDO-ALLDAYEVENT:FALSE
SUMMARY:BCN Luncheon - Economic Update with Dann Bowman
DESCRIPTION:You're Invited!\n\nJoin the Rancho Cucamonga Chamber of Commerce for this month's BCN Luncheon at The Old Spaghetti Factory! Enjoy a delicious three-course lunch while connecting with fellow professionals and gaining valuable insight.    \n\n  Date: Thursday\, May 21\, 2026\n\n  Time: 11:30 AM\n\n  Location: The Old Spaghetti Factory\n\n11896 N. Foothill Blvd.\, Rancho Cucamonga\, CA 91730\n\n  Topic: Economic Update\n\n  Presented by: Dann Bowman\n\n  What to Expect:\n\nMr. Bowman will share key insights on local and global economic trends\, investment opportunities\, and current challenges and risks in the market. Don't miss this informative luncheon and a great opportunity to network over a fantastic meal. We look forward to seeing you there!
X-ALT-DESC;FMTTYPE=text/html:<p data-end="18" data-start="0"><span style="font-size:14px\;"><span style="font-family:arial\;">&#128226\; You&rsquo\;re Invited!</span></span></p>\n\n<p data-end="242" data-start="20"><span style="font-size:14px\;"><span style="font-family:arial\;">Join the Rancho Cucamonga Chamber of Commerce for this month&rsquo\;s BCN Luncheon at The Old Spaghetti Factory! Enjoy a delicious three-course lunch while connecting with fellow professionals and gaining valuable insight. &#127837\;&#129367\;&#127856\;</span></span></p>\n\n<p data-end="392" data-start="244"><span style="font-size:14px\;"><span style="font-family:arial\;">&#128197\; Date: Thursday\, May 21\, 2026<br data-end="278" data-start="275" />\n&#128358\; Time: 11:30 AM<br data-end="298" data-start="295" />\n&#128205\; Location: The Old Spaghetti Factory<br data-end="339" data-start="336" />\n11896 N. Foothill Blvd.\, Rancho Cucamonga\, CA 91730</span></span></p>\n\n<p data-end="452" data-start="394"><span style="font-size:14px\;"><span style="font-family:arial\;">&#127775\; Topic: Economic Update<br data-end="422" data-start="419" />\n&#128188\; Presented by: Dann Bowman</span></span></p>\n\n<p data-end="751" data-is-last-node="" data-is-only-node="" data-start="454"><span style="font-size:14px\;"><span style="font-family:arial\;">&#10024\; What to Expect:<br data-end="474" data-start="471" />\nMr. Bowman will share key insights on local and global economic trends\, investment opportunities\, and current challenges and risks in the market. Don&rsquo\;t miss this informative luncheon and a great opportunity to network over a fantastic meal. We look forward to seeing you there!</span></span></p>\n
LOCATION:The Old Spaghetti Factory 11896 N Foothill Blvd. Rancho Cucamonga
UID:e.2077.6898
SEQUENCE:3
DTSTAMP:20260421T084019Z
URL:https://business.ranchochamber.org/events/details/bcn-luncheon-economic-update-with-dann-bowman-6898
END:VEVENT

END:VCALENDAR
