BEGIN:VCALENDAR
VERSION:2.0
PRODID:-//ChamberMaster//Event Calendar 2.0//EN
METHOD:PUBLISH
X-PUBLISHED-TTL:P3D
REFRESH-INTERVAL:P3D
CALSCALE:GREGORIAN
BEGIN:VEVENT
DTSTART:20240530T003000Z
DTEND:20240530T023000Z
X-MICROSOFT-CDO-ALLDAYEVENT:FALSE
SUMMARY:Business Appreciation Mixer
DESCRIPTION:ATTENTION!!  LOCATION HAS BEEN CHANGED \n\n\n\nThe City of Rancho Cucamonga and Rancho Cucamonga Chamber of Commerce will be hosting a Business Appreciation Mixer on Wednesday\, May 29 from 5:30 PM   7:30 PM at Five Star Catering & Events Center. Socialize with the business community and create new contacts.\n\n\n\nThis is open to all Chamber members and businesses within the City of Rancho Cucamonga.
X-ALT-DESC;FMTTYPE=text/html:<span style="font-size:18px\;"><strong><span style="color:#FF0000\;"><span style="font-family: Calibri\, sans-serif\;">ATTENTION!!&nbsp\; LOCATION HAS BEEN CHANGED&nbsp\;</span></span></strong></span><br />\n<br />\n<span style="color: rgb(36\, 36\, 36)\; font-family: Calibri\, sans-serif\; font-size: 14.6667px\;">The City of Rancho Cucamonga and Rancho Cucamonga Chamber of Commerce will be hosting a Business Appreciation Mixer on Wednesday\, May 29 from 5:30 PM &ndash\; 7:30 PM at Five Star Catering &amp\; Events Center.</span><span style="border: 0px\; font-variant-numeric: inherit\; font-variant-east-asian: inherit\; font-variant-alternates: inherit\; font-variant-position: inherit\; font-stretch: inherit\; font-size: 14.6667px\; line-height: inherit\; font-family: Calibri\, sans-serif\; font-optical-sizing: inherit\; font-kerning: inherit\; font-feature-settings: inherit\; font-variation-settings: inherit\; margin: 0px\; padding: 0px\; vertical-align: baseline\; color: rgb(36\, 36\, 36)\;">&nbsp\;Socialize with the business community and create new contacts.<br />\n<br />\nThis is open to all Chamber members and businesses within the City of Rancho Cucamonga.</span>
LOCATION:Five Star Catering and Events 10013 8th St. Suite F Rancho Cucamonga CA 91730
UID:e.2077.4633
SEQUENCE:3
DTSTAMP:20260421T105648Z
URL:https://business.ranchochamber.org/events/details/business-appreciation-mixer-4633
END:VEVENT

END:VCALENDAR
