BEGIN:VCALENDAR
VERSION:2.0
PRODID:-//ChamberMaster//Event Calendar 2.0//EN
METHOD:PUBLISH
X-PUBLISHED-TTL:P3D
REFRESH-INTERVAL:P3D
CALSCALE:GREGORIAN
BEGIN:VEVENT
DTSTART:20260513T000000Z
DTEND:20260513T020000Z
X-MICROSOFT-CDO-ALLDAYEVENT:FALSE
SUMMARY:Foothill Credit Union Joint Chamber Mixer
DESCRIPTION:Join us for a fun evening of networking and community building as we partner with the Upland Chamber of Commerce for the Foothill Credit Union Mixer!\n\n  Date: Tuesday\, May 12\, 2026\n\n  Time: 5:00 PM   7:00 PM\n\n  Location: 1365 E. 19th St.\, Unit F\, Upland\, CA\n\nEnjoy light bites\, beverages\, and exciting raffles while connecting with fellow professionals in the community. Don't forget to bring a raffle prize for a chance to spotlight your business!\n\nWe look forward to seeing you there!
X-ALT-DESC;FMTTYPE=text/html:<p data-end="165" data-start="0"><span style="font-size:18px\;">Join us for a fun evening of networking and community building as we partner with the Upland Chamber of Commerce for the <span class="hover:entity-accent entity-underline inline cursor-pointer align-baseline">Foothill Credit Union</span> Mixer!</span></p>\n\n<p data-end="276" data-start="167"><span style="font-size:18px\;">&#128197\; <strong data-end="179" data-start="170">Date:</strong>&nbsp\;Tuesday\, May 12\, 2026<br data-end="189" data-start="186" />\n&#9200\; <strong data-end="200" data-is-only-node="" data-start="191">Time:</strong> 5:00 PM &ndash\; 7:00 PM<br data-end="221" data-start="218" />\n&#128205\; <strong data-end="237" data-start="224">Location:</strong> 1365 E. 19th St.\, Unit F\, Upland\, CA</span></p>\n\n<p data-end="467" data-start="278"><span style="font-size:18px\;">Enjoy light bites\, beverages\, and exciting raffles while connecting with fellow professionals in the community. Don&rsquo\;t forget to bring a raffle prize for a chance to spotlight your business!</span></p>\n\n<p data-end="505" data-is-last-node="" data-is-only-node="" data-start="469"><span style="font-size:18px\;">We look forward to seeing you there!</span></p>\n
LOCATION:Location: 1365 E. 19th St.\, Unit F\, Upland\, CA
UID:e.2077.7048
SEQUENCE:3
DTSTAMP:20260422T082101Z
URL:https://business.ranchochamber.org/events/details/foothill-credit-union-joint-chamber-mixer-7048
END:VEVENT

END:VCALENDAR
