BEGIN:VCALENDAR
VERSION:2.0
PRODID:-//ChamberMaster//Event Calendar 2.0//EN
METHOD:PUBLISH
X-PUBLISHED-TTL:P3D
REFRESH-INTERVAL:P3D
CALSCALE:GREGORIAN
BEGIN:VEVENT
DTSTART:20240504T170000Z
DTEND:20240504T220000Z
X-MICROSOFT-CDO-ALLDAYEVENT:FALSE
SUMMARY:MAY DAY in the PARK!
DESCRIPTION:Delta Sigma Theta Sorority\, Incorporated is an organization of college-educated women dedicated to public service with an emphasis on programs that support our local communities. The women of the Pomona Valley Alumnae Chapter of Delta Sigma Theta Sorority\, in partnership with West Heritage Elementary School\, invite you to join us for our annual MAY DAY in the PARK event. MAY DAY in the PARK is an annual event loaded with fun\, educational activities\, community resources and the opportunity to honor our scholarship recipients for 2024. All are welcome to this free event! There will be games\, prizes\, food trucks\, vendors\, entertainment and the opportunity for on-site blood donation with LifeStream Blood Bank. We will also collect gently used shoes for our shoe drive. So\, bring the entire family and don't forget lawn chairs\, blankets and sunscreen!
X-ALT-DESC;FMTTYPE=text/html:Delta Sigma Theta Sorority\, Incorporated is an organization of college-educated women dedicated to public service with an emphasis on programs that support our local communities. The women of the Pomona Valley Alumnae Chapter of Delta Sigma Theta Sorority\, in partnership with West Heritage Elementary School\, invite you to join us for our annual MAY DAY in the PARK event. MAY DAY in the PARK is an annual event loaded with fun\, educational activities\, community resources and the opportunity to honor our scholarship recipients for 2024. All are welcome to this free event! There will be games\, prizes\, food trucks\, vendors\, entertainment and the opportunity for on-site blood donation with LifeStream Blood Bank. We will also collect gently used shoes for our shoe drive. So\, bring the entire family and don&rsquo\;t forget lawn chairs\, blankets and sunscreen!
LOCATION:West Heritage Elementary School 13690 West Constitution Way Fontana\, CA 92336
UID:e.2077.4659
SEQUENCE:3
DTSTAMP:20260420T013050Z
URL:https://business.ranchochamber.org/events/details/may-day-in-the-park-4659
END:VEVENT

END:VCALENDAR
