BEGIN:VCALENDAR
VERSION:2.0
PRODID:-//ChamberMaster//Event Calendar 2.0//EN
METHOD:PUBLISH
X-PUBLISHED-TTL:P3D
REFRESH-INTERVAL:P3D
CALSCALE:GREGORIAN
BEGIN:VEVENT
DTSTART:20260828T150000Z
DTEND:20260828T163000Z
X-MICROSOFT-CDO-ALLDAYEVENT:FALSE
SUMMARY:Meet & Greet at Second Story and Beyond
DESCRIPTION:Curious about the local business community?\n\nJoin us for a Meet & Greet at Second Story and Beyond!\n\n  Date: Friday\, August 28\, 2026\n\n  Time: 8:00 AM   9:30 AM\n\n  Location: Second Story and Beyond (2nd floor of the library)\n\n  Address: 12505 Cultural Center Dr.\, Rancho Cucamonga\, CA 91739\n\nWhat's Happening?\n\n  Networking: Connect with local business owners\, professionals\, and community members\n\n  Community Engagement: Build relationships and grow your presence in Rancho Cucamonga\n\n  Refreshments: Enjoy coffee and donuts while you mingle\n\n  Raffle: Bring a giveaway and share a quick 30-second pitch about your business\n\nWho Should Attend?\n\n  Business Owners: Discover new opportunities and partnerships\n\n  Community Leaders: Connect with local stakeholders\n\n  Residents & Professionals: Stay engaged and expand your network\n\n  Admission: FREE! (Registration encouraged). \n\nLet's build a stronger Rancho Cucamonga community together we can't wait to see you there!
X-ALT-DESC;FMTTYPE=text/html:<p data-end="48" data-start="0"><span style="font-size:16px\;">&#127881\; Curious about the local business community?</span></p>\n\n<p data-end="131" data-start="50"><span style="font-size:16px\;">Join us for a <strong data-end="97" data-start="64">Meet &amp\; Greet at</strong>&nbsp\;<strong data-end="128" data-start="101">Second Story and Beyond</strong>!</span></p>\n\n<p data-end="339" data-start="133"><span style="font-size:16px\;">&#128197\; <strong data-end="145" data-start="136">Date:</strong> Friday\, August 28\, 2026<br data-end="166" data-start="163" />\n&#9200\; <strong data-end="177" data-start="168">Time:</strong> 8:00 AM &ndash\; 9:30 AM<br data-end="198" data-start="195" />\n&#128205\; <strong data-end="214" data-start="201">Location:</strong> Second Story and Beyond (2nd floor of the library)<br data-end="268" data-start="265" />\n&#128204\; <strong data-end="283" data-start="271">Address:</strong> 12505 Cultural Center Dr.\, Rancho Cucamonga\, CA 91739</span></p>\n\n<p data-end="703" data-start="341"><span style="font-size:16px\;"><strong data-end="362" data-start="341">What&rsquo\;s Happening?</strong><br data-end="365" data-start="362" />\n&#129309\; <strong data-end="383" data-start="368">Networking:</strong> Connect with local business owners\, professionals\, and community members<br data-end="459" data-start="456" />\n&#127775\; <strong data-end="487" data-start="462">Community Engagement:</strong> Build relationships and grow your presence in Rancho Cucamonga<br data-end="553" data-start="550" />\n&#9749\; <strong data-end="572" data-is-only-node="" data-start="555">Refreshments:</strong> Enjoy coffee and donuts while you mingle<br data-end="616" data-start="613" />\n&#127873\; <strong data-end="630" data-start="619">Raffle:</strong> Bring a giveaway and share a quick 30-second pitch about your business</span></p>\n\n<p data-end="929" data-start="705"><span style="font-size:16px\;"><strong data-end="727" data-start="705">Who Should Attend?</strong><br data-end="730" data-start="727" />\n&bull\; <strong data-end="752" data-start="732">Business Owners:</strong> Discover new opportunities and partnerships<br data-end="799" data-start="796" />\n&bull\; <strong data-end="823" data-start="801">Community Leaders:</strong> Connect with local stakeholders<br data-end="858" data-start="855" />\n&bull\; <strong data-end="890" data-is-only-node="" data-start="860">Residents &amp\; Professionals:</strong> Stay engaged and expand your network</span></p>\n\n<p data-end="982" data-start="931"><span style="font-size:16px\;">&#127903\; <strong data-end="948" data-start="934">Admission:</strong> FREE! (Registration encouraged).&nbsp\;</span></p>\n\n<p data-end="1076" data-start="984"><span style="font-size:16px\;">Let&rsquo\;s build a stronger Rancho Cucamonga community together&mdash\;we can&rsquo\;t wait to see you there!</span></p>\n
LOCATION:Location: Second Story and Beyond (2nd floor of the library) Address: 12505 Cultural Center Dr.\, Rancho Cucamonga\, CA 91739
UID:e.2077.7052
SEQUENCE:3
DTSTAMP:20260423T195634Z
URL:https://business.ranchochamber.org/events/details/meet-greet-at-second-story-and-beyond-7052
END:VEVENT

END:VCALENDAR
