BEGIN:VCALENDAR
VERSION:2.0
PRODID:-//ChamberMaster//Event Calendar 2.0//EN
METHOD:PUBLISH
X-PUBLISHED-TTL:P3D
REFRESH-INTERVAL:P3D
CALSCALE:GREGORIAN
BEGIN:VEVENT
DTSTART:20240417T003000Z
DTEND:20240417T013000Z
X-MICROSOFT-CDO-ALLDAYEVENT:FALSE
SUMMARY:Ribbon Cutting - Graze Craze
DESCRIPTION:We are delighted to invite you to the eagerly anticipated Ribbon Cutting Ceremony for the newest addition to our vibrant community\, Graze Craze!  \n\nThis exciting event promises an evening of celebration\, networking\, and community spirit.\n\n\n\n  Date: Tuesday\, April 16\, 2024  \n\n Time: 5:30 PM - 6:30 PM\n\n  Venue: 5030 E. 4th Street Suite B Ontario\, CA 91764\n\n\n\nEngage with fellow Chamber members\, city leaders\, and our vibrant community. Get ready to indulge in a symphony of flavors as we celebrate the ribbon-cutting ceremony of this sensational charcuterie haven!  \n\nDon't miss the chance to be part of the excitement and celebrate the growth of our local business community!\n\nLet's come together to welcome Graze Craze to Rancho Cucamonga and make this Ribbon Cutting Ceremony an unforgettable event!
X-ALT-DESC;FMTTYPE=text/html:<span style="font-family: arial\; font-size: 13px\; background-color: rgb(255\, 255\, 255)\; color: rgb(13\, 13\, 13)\;"><span style="font-size: 12pt\;">We are delighted to invite you to the eagerly anticipated Ribbon Cutting Ceremony for the newest addition to our vibrant community\, Graze Craze!</span></span><span style="color: rgb(13\, 13\, 13)\; font-family: Söhne\, ui-sans-serif\, system-ui\, -apple-system\, &quot\;Segoe UI&quot\;\, Roboto\, Ubuntu\, Cantarell\, &quot\;Noto Sans&quot\;\, sans-serif\, &quot\;Helvetica Neue&quot\;\, Arial\, &quot\;Apple Color Emoji&quot\;\, &quot\;Segoe UI Emoji&quot\;\, &quot\;Segoe UI Symbol&quot\;\, &quot\;Noto Color Emoji&quot\;\; font-size: 16px\; white-space-collapse: preserve\; background-color: rgb(255\, 255\, 255)\;">&#127881\;</span><span style="color: rgb(13\, 13\, 13)\; font-family: Söhne\, ui-sans-serif\, system-ui\, -apple-system\, &quot\;Segoe UI&quot\;\, Roboto\, Ubuntu\, Cantarell\, &quot\;Noto Sans&quot\;\, sans-serif\, &quot\;Helvetica Neue&quot\;\, Arial\, &quot\;Apple Color Emoji&quot\;\, &quot\;Segoe UI Emoji&quot\;\, &quot\;Segoe UI Symbol&quot\;\, &quot\;Noto Color Emoji&quot\;\; font-size: 16px\; white-space-collapse: preserve\; background-color: rgb(255\, 255\, 255)\;">&#129472\;</span><br />\n<span style="font-family: arial\; font-size: 13px\; background-color: rgb(255\, 255\, 255)\; color: rgb(13\, 13\, 13)\;"><span style="font-size: 12pt\;">This exciting event promises an evening of celebration\, networking\, and community spirit.</span></span><br />\n<br style="color: rgb(51\, 51\, 51)\; font-family: arial\; font-size: 13px\; background-color: rgb(255\, 255\, 255)\;" />\n<span style="font-family: arial\; font-size: 13px\; background-color: rgb(255\, 255\, 255)\; color: rgb(13\, 13\, 13)\;"><span style="font-size: 12pt\;">&#128197\;</span></span><span style="font-family: arial\; font-size: 13px\; background-color: rgb(255\, 255\, 255)\; color: rgb(13\, 13\, 13)\;"><span style="font-size: 12pt\;">&nbsp\;Date: Tuesday\, April 16\, 2024 &nbsp\;</span></span><br style="color: rgb(51\, 51\, 51)\; font-family: arial\; font-size: 13px\; background-color: rgb(255\, 255\, 255)\;" />\n<span style="color: rgb(51\, 51\, 51)\; font-family: arial\; font-size: 13px\; background: white\;"><span style="color: rgb(13\, 13\, 13)\;">&#128341\;</span></span><span style="font-family: arial\; font-size: 13px\; background-color: rgb(255\, 255\, 255)\; color: rgb(13\, 13\, 13)\;"><span style="font-size: 12pt\;">Time: 5:30 PM - 6:30 PM</span></span><br style="color: rgb(51\, 51\, 51)\; font-family: arial\; font-size: 13px\; background-color: rgb(255\, 255\, 255)\;" />\n<span style="font-family: arial\; font-size: 13px\; background-color: rgb(255\, 255\, 255)\; color: rgb(13\, 13\, 13)\;"><span style="font-size: 12pt\;">&#128205\;&nbsp\;Venue: 5030 E. 4th Street Suite B</span></span><span style="font-family: arial\; font-size: 13px\; background-color: rgb(255\, 255\, 255)\; color: rgb(13\, 13\, 13)\;"><span style="font-size: 12pt\;">&nbsp\;Ontario\, CA 91764</span></span><br style="color: rgb(51\, 51\, 51)\; font-family: arial\; font-size: 13px\; background-color: rgb(255\, 255\, 255)\;" />\n<br style="color: rgb(51\, 51\, 51)\; font-family: arial\; font-size: 13px\; background-color: rgb(255\, 255\, 255)\;" />\n<span style="font-family: arial\; font-size: 13px\; background-color: rgb(255\, 255\, 255)\; color: rgb(13\, 13\, 13)\;"><span style="font-size: 12pt\;">Engage with fellow Chamber members\, city leaders\, and our vibrant community. Get ready to indulge in a symphony of flavors as we celebrate the ribbon-cutting ceremony of this sensational charcuterie haven!</span></span><span style="color: rgb(13\, 13\, 13)\; font-family: Söhne\, ui-sans-serif\, system-ui\, -apple-system\, &quot\;Segoe UI&quot\;\, Roboto\, Ubuntu\, Cantarell\, &quot\;Noto Sans&quot\;\, sans-serif\, &quot\;Helvetica Neue&quot\;\, Arial\, &quot\;Apple Color Emoji&quot\;\, &quot\;Segoe UI Emoji&quot\;\, &quot\;Segoe UI Symbol&quot\;\, &quot\;Noto Color Emoji&quot\;\; font-size: 16px\; white-space-collapse: preserve\; background-color: rgb(255\, 255\, 255)\;">&#129366\;&#127815\;</span><br />\n<span style="font-family: arial\; font-size: 13px\; background-color: rgb(255\, 255\, 255)\; color: rgb(13\, 13\, 13)\;"><span style="font-size: 12pt\;">Don&#39\;t miss the chance to be part of the excitement and celebrate the growth of our local business community!</span></span><br style="color: rgb(51\, 51\, 51)\; font-family: arial\; font-size: 13px\; background-color: rgb(255\, 255\, 255)\;" />\n<span style="font-family: arial\; font-size: 13px\; background-color: rgb(255\, 255\, 255)\; color: rgb(13\, 13\, 13)\;"><span style="font-size: 12pt\;">Let&#39\;s come together to welcome Graze Craze to Rancho Cucamonga and make this Ribbon Cutting Ceremony an unforgettable event!</span></span>
LOCATION:
UID:e.2077.4639
SEQUENCE:3
DTSTAMP:20260421T104727Z
URL:https://business.ranchochamber.org/events/details/ribbon-cutting-graze-craze-4639
END:VEVENT

END:VCALENDAR
