BEGIN:VCALENDAR
VERSION:2.0
PRODID:-//ChamberMaster//Event Calendar 2.0//EN
METHOD:PUBLISH
X-PUBLISHED-TTL:P3D
REFRESH-INTERVAL:P3D
CALSCALE:GREGORIAN
BEGIN:VEVENT
DTSTART:20240423T160000Z
DTEND:20240423T180000Z
X-MICROSOFT-CDO-ALLDAYEVENT:FALSE
SUMMARY:SBDC Workshop - Marketing Secrets Unlocked
DESCRIPTION:SBDC provides business workshops and training programs for current and aspiring business owners to start and grow their business at little to no cost.\n\n\n\nIn today's noisy business landscape\, staying ahead of the competition is not just an advantage it's a necessity!\n\n\n\nIn this workshop\, you'll uncover the hidden gems of AI technology and learn how to\n\nleverage its capabilities to revolutionize your marketing efforts. From predictive analytics to personalized customer experiences\, discover how AI can propel your business to new heights of success.\n\n\n\nKey Topics:\n\n	Discover Hidden AI Gems\n	Master Automation Mastery\n	Competitive Edge Mastery
X-ALT-DESC;FMTTYPE=text/html:<span style="font-family:arial\;"><span style="background-color: rgb(255\, 255\, 255)\;">SBDC provides business workshops and training programs for current and aspiring business owners to start and grow their business at little to no cost.</span><br />\n<br />\nIn today&#39\;s noisy business landscape\, staying ahead of the competition is not just an advantage&mdash\;it&#39\;s a necessity!<br />\n<br />\nIn this workshop\, you&#39\;ll uncover the hidden gems of AI technology and learn how to<br />\nleverage its capabilities to revolutionize your marketing efforts. From predictive analytics to personalized customer experiences\, discover how AI can propel your business to new heights of success.<br />\n<br />\n<strong>Key Topics:</strong></span>\n<ul>\n	<li><span style="font-family:arial\;">Discover Hidden AI Gems</span></li>\n	<li><span style="font-family:arial\;">Master Automation Mastery</span></li>\n	<li><span style="font-family:arial\;">Competitive Edge Mastery</span></li>\n</ul>\n
LOCATION:Rancho Chamber Offices 9500 Cleveland Ave. Suite 110 Rancho Cucamonga In the IEHP Building
UID:e.2077.4423
SEQUENCE:3
DTSTAMP:20260419T234515Z
URL:https://business.ranchochamber.org/events/details/sbdc-workshop-marketing-secrets-unlocked-4423
END:VEVENT

END:VCALENDAR
